BEGIN:VCALENDAR
VERSION:2.0
PRODID:icalendar-ruby
CALSCALE:GREGORIAN
METHOD:PUBLISH
BEGIN:VEVENT
DTSTAMP:20260422T142819Z
UID:8-809519@onedirection.tithelysetup8.com
DTSTART:20261101T183000Z
DTEND:20261101T193000Z
CLASS:PUBLIC
CREATED:20260422T072514
DESCRIPTION:Sunday Service
LAST-MODIFIED:20260422T072514
LOCATION:
SUMMARY:Sunday Service
URL;VALUE=URI:https://onedirection.tithelysetup8.com/events/sunday-service/
 2026-11-01
END:VEVENT
END:VCALENDAR
