BEGIN:VCALENDAR
VERSION:2.0
PRODID:icalendar-ruby
CALSCALE:GREGORIAN
METHOD:PUBLISH
BEGIN:VEVENT
DTSTAMP:20260422T124912Z
UID:8-809102@onedirection.tithelysetup8.com
DTSTART:20261025T173000Z
DTEND:20261025T183000Z
CLASS:PUBLIC
CREATED:20260422T043024
DESCRIPTION:Sunday Service
LAST-MODIFIED:20260422T043024
LOCATION:
SUMMARY:Sunday Service
URL;VALUE=URI:https://onedirection.tithelysetup8.com/events/sunday-service/
 2026-10-25
END:VEVENT
END:VCALENDAR
