BEGIN:VCALENDAR
VERSION:2.0
PRODID:icalendar-ruby
CALSCALE:GREGORIAN
METHOD:PUBLISH
BEGIN:VEVENT
DTSTAMP:20260422T052051Z
UID:8-808681@onedirection.tithelysetup8.com
DTSTART:20260920T173000Z
DTEND:20260920T183000Z
CLASS:PUBLIC
CREATED:20260421T172834
DESCRIPTION:Sunday Service
LAST-MODIFIED:20260421T172834
LOCATION:
SUMMARY:Sunday Service
URL;VALUE=URI:https://onedirection.tithelysetup8.com/events/sunday-service/
 2026-09-20
END:VEVENT
END:VCALENDAR
