BEGIN:VCALENDAR
VERSION:2.0
PRODID:icalendar-ruby
CALSCALE:GREGORIAN
METHOD:PUBLISH
BEGIN:VEVENT
DTSTAMP:20260422T002913Z
UID:8-808678@onedirection.tithelysetup8.com
DTSTART:20260830T173000Z
DTEND:20260830T183000Z
CLASS:PUBLIC
CREATED:20260421T172834
DESCRIPTION:Sunday Service
LAST-MODIFIED:20260421T172834
LOCATION:
SUMMARY:Sunday Service
URL;VALUE=URI:https://onedirection.tithelysetup8.com/events/sunday-service/
 2026-08-30
END:VEVENT
END:VCALENDAR
