BEGIN:VCALENDAR
VERSION:2.0
PRODID:icalendar-ruby
CALSCALE:GREGORIAN
METHOD:PUBLISH
BEGIN:VEVENT
DTSTAMP:20260422T172216Z
UID:7-809727@onedirection.tithelysetup8.com
DTSTART:20261029T023000Z
DTEND:20261029T033000Z
CLASS:PUBLIC
CREATED:20260422T102043
DESCRIPTION:Bible Study
LAST-MODIFIED:20260422T102043
LOCATION:
SUMMARY:Bible Study
URL;VALUE=URI:https://onedirection.tithelysetup8.com/events/bible-study/202
 6-10-28
END:VEVENT
END:VCALENDAR
