BEGIN:VCALENDAR
VERSION:2.0
PRODID:icalendar-ruby
CALSCALE:GREGORIAN
METHOD:PUBLISH
BEGIN:VEVENT
DTSTAMP:20260422T155211Z
UID:7-809310@onedirection.tithelysetup8.com
DTSTART:20261022T023000Z
DTEND:20261022T033000Z
CLASS:PUBLIC
CREATED:20260422T072514
DESCRIPTION:Bible Study
LAST-MODIFIED:20260422T072514
LOCATION:
SUMMARY:Bible Study
URL;VALUE=URI:https://onedirection.tithelysetup8.com/events/bible-study/202
 6-10-21
END:VEVENT
END:VCALENDAR
