BEGIN:VCALENDAR
VERSION:2.0
PRODID:icalendar-ruby
CALSCALE:GREGORIAN
METHOD:PUBLISH
BEGIN:VEVENT
DTSTAMP:20260422T125644Z
UID:7-808892@onedirection.tithelysetup8.com
DTSTART:20261008T023000Z
DTEND:20261008T033000Z
CLASS:PUBLIC
CREATED:20260422T043024
DESCRIPTION:Bible Study
LAST-MODIFIED:20260422T043024
LOCATION:
SUMMARY:Bible Study
URL;VALUE=URI:https://onedirection.tithelysetup8.com/events/bible-study/202
 6-10-07
END:VEVENT
END:VCALENDAR
