BEGIN:VCALENDAR
VERSION:2.0
PRODID:icalendar-ruby
CALSCALE:GREGORIAN
METHOD:PUBLISH
BEGIN:VEVENT
DTSTAMP:20260422T030811Z
UID:7-808470@onedirection.tithelysetup8.com
DTSTART:20260827T023000Z
DTEND:20260827T033000Z
CLASS:PUBLIC
CREATED:20260421T172834
DESCRIPTION:Bible Study
LAST-MODIFIED:20260421T172834
LOCATION:
SUMMARY:Bible Study
URL;VALUE=URI:https://onedirection.tithelysetup8.com/events/bible-study/202
 6-08-26
END:VEVENT
END:VCALENDAR
